BEGIN:VCALENDAR
VERSION:2.0
PRODID:-//MotorsportReg//iCal 2.0//EN
CALSCALE:GREGORIAN
METHOD:PUBLISH
X-WR-TIMEZONE:US/Pacific
BEGIN:VEVENT
DTSTART:20080803T000000
DTEND:20080804T000000
DTSTAMP:20260422T072555Z
SUMMARY:FRX Vallejo II
DESCRIPTION:Details: https://www.motorsportreg.com/events/frx-vallejo-ii-solano-county-fairgrounds-formula-rallyx-382580
CATEGORIES:RallyCross
TRANSP:TRANSPARENT
UID:DD5D3A43-E1B6-43FC-158D338DA2B580DB-at-MotorsportReg.com
LOCATION:FRX Solano County Fairgrounds\, Vallejo\, ca US
GEO:38.1320582029;-122.229390717
URL;VALUE=URI:https://www.motorsportreg.com/events/frx-vallejo-ii-solano-county-fairgrounds-formula-rallyx-382580
END:VEVENT
END:VCALENDAR