BEGIN:VCALENDAR
VERSION:2.0
PRODID:-//MotorsportReg//iCal 2.0//EN
CALSCALE:GREGORIAN
METHOD:PUBLISH
X-WR-TIMEZONE:US/Pacific
BEGIN:VEVENT
DTSTART:20080802T000000
DTEND:20080803T000000
DTSTAMP:20260422T072606Z
SUMMARY:FRX Vallejo I
DESCRIPTION:Details: https://www.motorsportreg.com/events/frx-vallejo-i-solano-county-fairgrounds-formula-rallyx-199738
CATEGORIES:RallyCross
TRANSP:TRANSPARENT
UID:DD5B04B2-9358-59E4-A2F0A619A973F8EB-at-MotorsportReg.com
LOCATION:FRX Solano County Fairgrounds\, Vallejo\, ca US
GEO:38.1320582029;-122.229390717
URL;VALUE=URI:https://www.motorsportreg.com/events/frx-vallejo-i-solano-county-fairgrounds-formula-rallyx-199738
END:VEVENT
END:VCALENDAR