BEGIN:VCALENDAR
VERSION:2.0
PRODID:-//MotorsportReg//iCal 2.0//EN
CALSCALE:GREGORIAN
METHOD:PUBLISH
X-WR-TIMEZONE:US/Pacific
BEGIN:VEVENT
DTSTART:20231013T000000
DTEND:20231015T000000
DTSTAMP:20260420T035209Z
SUMMARY:FSR Fall 2023 Drivers Ed At VIR Full Course
DESCRIPTION:Details: https://www.motorsportreg.com/events/fsr-fall-2023-drivers-ed-at-vir-full-course-virginia-international-230002
CATEGORIES:HPDE
TRANSP:TRANSPARENT
UID:B75E5638-EC68-6E05-99EB432042300E02-at-MotorsportReg.com
LOCATION:Virginia International Raceway\, Alton\, VA US
GEO:36.5637;-79.20855
URL;VALUE=URI:https://www.motorsportreg.com/events/fsr-fall-2023-drivers-ed-at-vir-full-course-virginia-international-230002
END:VEVENT
END:VCALENDAR