BEGIN:VCALENDAR
VERSION:2.0
PRODID:-//MotorsportReg//iCal 2.0//EN
CALSCALE:GREGORIAN
METHOD:PUBLISH
X-WR-TIMEZONE:US/Pacific
BEGIN:VEVENT
DTSTART:20160918T000000
DTEND:20160919T000000
DTSTAMP:20260423T115714Z
SUMMARY:Cars and Coffee Valley of the Temples
DESCRIPTION:Details: https://www.motorsportreg.com/events/cars-coffee-valley-of-temples-hawaii-043032
CATEGORIES:Car Show/Concours
TRANSP:TRANSPARENT
UID:A8264700-01CF-E92B-55704BD30CFCE32D-at-MotorsportReg.com
LOCATION:Valley of the Temples\, Kaneohe\, HI US
GEO:21.4347113843;-157.82788587
URL;VALUE=URI:https://www.motorsportreg.com/events/cars-coffee-valley-of-temples-hawaii-043032
END:VEVENT
END:VCALENDAR