BEGIN:VCALENDAR
VERSION:2.0
PRODID:-//MotorsportReg//iCal 2.0//EN
CALSCALE:GREGORIAN
METHOD:PUBLISH
X-WR-TIMEZONE:US/Pacific
BEGIN:VEVENT
DTSTART:20130317T000000
DTEND:20130318T000000
DTSTAMP:20260425T031020Z
SUMMARY:Mini of the Main Line 2013 Solo Rust-Off
DESCRIPTION:Details: https://www.motorsportreg.com/events/mini-of-main-line-2013-solo-rust-off-warminster-community-park-scca-philadelphia-368814
CATEGORIES:Autocross/Solo
TRANSP:TRANSPARENT
UID:9E5DBC7D-C614-8949-000017AD436B8814-at-MotorsportReg.com
LOCATION:Warminster Community Park\, Warminster\, PA US
GEO:40.2013323134;-75.0492648093
URL;VALUE=URI:https://www.motorsportreg.com/events/mini-of-main-line-2013-solo-rust-off-warminster-community-park-scca-philadelphia-368814
END:VEVENT
END:VCALENDAR