BEGIN:VCALENDAR
VERSION:2.0
PRODID:-//MotorsportReg//iCal 2.0//EN
CALSCALE:GREGORIAN
METHOD:PUBLISH
X-WR-TIMEZONE:US/Pacific
BEGIN:VEVENT
DTSTART:20150404T000000
DTEND:20150405T000000
DTSTAMP:20260424T091252Z
SUMMARY:ACCO Track Day A5
DESCRIPTION:Details: https://www.motorsportreg.com/events/acco-track-day-a4-oregon-raceway-park-autocross-club-of-central-257689
CATEGORIES:Open Track
TRANSP:TRANSPARENT
UID:97DC2E3F-96EB-037D-0D5F5CAE25FA7689-at-MotorsportReg.com
LOCATION:Oregon Raceway Park\, Grass Valley\, OR US
GEO:45.3594843432;-120.725902156
URL;VALUE=URI:https://www.motorsportreg.com/events/acco-track-day-a4-oregon-raceway-park-autocross-club-of-central-257689
END:VEVENT
END:VCALENDAR