BEGIN:VCALENDAR
VERSION:2.0
PRODID:-//MotorsportReg//iCal 2.0//EN
CALSCALE:GREGORIAN
METHOD:PUBLISH
X-WR-TIMEZONE:US/Pacific
BEGIN:VEVENT
DTSTART:20231027T000000
DTEND:20231029T000000
DTSTAMP:20260421T112545Z
SUMMARY:MiataCon 2023- Lime Rock Park 
DESCRIPTION:Details: https://www.motorsportreg.com/events/miatacon-2023-lime-rock-park-sports-car-driving-association-scda-371464
CATEGORIES:Club Race
TRANSP:TRANSPARENT
UID:932BE227-B6B3-8E2E-CEC76E643AE71464-at-MotorsportReg.com
LOCATION:Lime Rock Park\, Lakeville\, CT US
GEO:41.93232;-73.38042
URL;VALUE=URI:https://www.motorsportreg.com/events/miatacon-2023-lime-rock-park-sports-car-driving-association-scda-371464
END:VEVENT
END:VCALENDAR