BEGIN:VCALENDAR
VERSION:2.0
PRODID:-//MotorsportReg//iCal 2.0//EN
CALSCALE:GREGORIAN
METHOD:PUBLISH
X-WR-TIMEZONE:US/Pacific
BEGIN:VEVENT
DTSTART:20140330T000000
DTEND:20140331T000000
DTSTAMP:20260425T031310Z
SUMMARY:Points Event #1 Winter Tire Shakedown
DESCRIPTION:Details: https://www.motorsportreg.com/events/points-event-1-winter-tire-shakedown-devens-airfield-scca-new-england-solo-920885
CATEGORIES:Autocross/Solo
TRANSP:TRANSPARENT
UID:81ADC729-DAC9-435A-560DF9C20BA885BD-at-MotorsportReg.com
LOCATION:Devens Airfield\, Ayer\, MA US
GEO:42.5402930281;-71.6115691291
URL;VALUE=URI:https://www.motorsportreg.com/events/points-event-1-winter-tire-shakedown-devens-airfield-scca-new-england-solo-920885
END:VEVENT
END:VCALENDAR