BEGIN:VCALENDAR
VERSION:2.0
PRODID:-//MotorsportReg//iCal 2.0//EN
CALSCALE:GREGORIAN
METHOD:PUBLISH
X-WR-TIMEZONE:US/Pacific
BEGIN:VEVENT
DTSTART:20180407T000000
DTEND:20180408T000000
DTSTAMP:20260424T105103Z
SUMMARY:CANCELLED - Treading Thin Ice RallyCross
DESCRIPTION:Details: https://www.motorsportreg.com/events/treading-thin-ice-rallycross-isanti-county-fair-grounds-scca-land-o-lakes-640810
CATEGORIES:RallyCross
TRANSP:TRANSPARENT
UID:7FEE0C06-A65A-BCAA-0EF6A764FBA081D0-at-MotorsportReg.com
LOCATION:Isanti County Fair Grounds\, Cambridge\, MN  US
GEO:45.5656740938;-93.2259008282
URL;VALUE=URI:https://www.motorsportreg.com/events/treading-thin-ice-rallycross-isanti-county-fair-grounds-scca-land-o-lakes-640810
END:VEVENT
END:VCALENDAR