BEGIN:VCALENDAR
VERSION:2.0
PRODID:-//MotorsportReg//iCal 2.0//EN
CALSCALE:GREGORIAN
METHOD:PUBLISH
X-WR-TIMEZONE:US/Pacific
BEGIN:VEVENT
DTSTART:20130830T000000
DTEND:20130902T000000
DTSTAMP:20260422T105637Z
SUMMARY:Potomac and PCC Audi Club Labor Day DE
DESCRIPTION:Details: https://www.motorsportreg.com/events/potomac-pcc-audi-club-labor-day-de-virginia-international-raceway-pca-founders-251547
CATEGORIES:HPDE
TRANSP:TRANSPARENT
UID:59CA4B27-957C-14A4-74AC4E312FC51547-at-MotorsportReg.com
LOCATION:Virginia International Raceway\, Alton\, VA US
GEO:36.5637033358;-79.2085494846
URL;VALUE=URI:https://www.motorsportreg.com/events/potomac-pcc-audi-club-labor-day-de-virginia-international-raceway-pca-founders-251547
END:VEVENT
END:VCALENDAR