BEGIN:VCALENDAR
VERSION:2.0
PRODID:-//MotorsportReg//iCal 2.0//EN
CALSCALE:GREGORIAN
METHOD:PUBLISH
X-WR-TIMEZONE:US/Pacific
BEGIN:VEVENT
DTSTART:20100714T000000
DTEND:20100715T000000
DTSTAMP:20260424T112623Z
SUMMARY:W.O.W. Grand Prix (07/14/2010)
DESCRIPTION:Details: https://www.motorsportreg.com/events/w-o-grand-prix-07-14-2010-miller-motorsports-park-box-office-registration-718182
CATEGORIES:Club Race
TRANSP:TRANSPARENT
UID:2EB7079F-9A71-1B33-E753718EBEAE182C-at-MotorsportReg.com
LOCATION:Miller Motorsports Park\, Tooele\, UT US
GEO:40.5730892645;-112.37822254
URL;VALUE=URI:https://www.motorsportreg.com/events/w-o-grand-prix-07-14-2010-miller-motorsports-park-box-office-registration-718182
END:VEVENT
END:VCALENDAR