BEGIN:VCALENDAR
VERSION:2.0
PRODID:-//MotorsportReg//iCal 2.0//EN
CALSCALE:GREGORIAN
METHOD:PUBLISH
X-WR-TIMEZONE:US/Pacific
BEGIN:VEVENT
DTSTART:20150320T000000
DTEND:20150323T000000
DTSTAMP:20260425T093538Z
SUMMARY:BMWCCA Texas Trifecta 2015
DESCRIPTION:Details: https://www.motorsportreg.com/events/bmwcca-texas-trifecta-2015-circuit-of-americas-bmw-cca-lone-star-550159
CATEGORIES:HPDE
TRANSP:TRANSPARENT
UID:15A615BB-C741-D945-EC5C0FD1EA5BFC9B-at-MotorsportReg.com
LOCATION:Circuit of the Americas\, Austin\, TX US
GEO:30.1471777442;-97.5897360087
URL;VALUE=URI:https://www.motorsportreg.com/events/bmwcca-texas-trifecta-2015-circuit-of-americas-bmw-cca-lone-star-550159
END:VEVENT
END:VCALENDAR