BEGIN:VCALENDAR
VERSION:2.0
PRODID:-//MotorsportReg//iCal 2.0//EN
CALSCALE:GREGORIAN
METHOD:PUBLISH
X-WR-TIMEZONE:US/Pacific
BEGIN:VEVENT
DTSTART:20200531T000000
DTEND:20200601T000000
DTSTAMP:20260425T020356Z
SUMMARY:Fort Wayne Solo Points Event #2
DESCRIPTION:Details: https://www.motorsportreg.com/events/fort-wayne-solo-points-event-2-allen-county-war-memorial-coliseum-scca-654716
CATEGORIES:Autocross/Solo
TRANSP:TRANSPARENT
UID:034826C4-B280-FA5C-65E4DD7DFFBFB1C6-at-MotorsportReg.com
LOCATION:Allen County War Memorial Coliseum\,  Fort Wayne\, IN US
GEO:41.1128073975;-85.1254399084
URL;VALUE=URI:https://www.motorsportreg.com/events/fort-wayne-solo-points-event-2-allen-county-war-memorial-coliseum-scca-654716
END:VEVENT
END:VCALENDAR